BEGIN:VCALENDAR
VERSION:2.0
PRODID:-//www.ketchikanarts.org//NONSGML kigkonsult.se iCalcreator 2.30.10/
 /
CALSCALE:GREGORIAN
METHOD:PUBLISH
UID:36c0ce3b-33db-4ace-af84-049a556412c1
X-WR-CALDESC:Auditions for the upcoming First city Player production of Cal
 endar Girls on April 8 & 9 at 7:00pm. \nYou need to only attend one auditi
 on. No pre-prepared material needed\, just come ready to read and play!\nR
 oles available for 9 women\, aged 20's-90's and 4 men\, aged 20's-60's.\nF
 or questions or for more information\, call 225-4792.\nPerformances are Ju
 ne 14\, 15 and 21\, 22
X-WR-RELCALID:9a5ace0c567e3ed3a5b4ff228d06f572
X-WR-TIMEZONE:America/Anchorage
BEGIN:VTIMEZONE
TZID:America/Anchorage
BEGIN:STANDARD
TZNAME:AKST
DTSTART:20181104T020000
TZOFFSETFROM:-0800
TZOFFSETTO:-0900
RDATE:20191103T020000
END:STANDARD
BEGIN:DAYLIGHT
TZNAME:AKDT
DTSTART:20190310T020000
TZOFFSETFROM:-0900
TZOFFSETTO:-0800
RDATE:20200308T020000
END:DAYLIGHT
END:VTIMEZONE
BEGIN:VEVENT
UID:456521d2-9af5-4130-87ce-9dccdd69972b
DTSTAMP:20260422T191543Z
DESCRIPTION:Auditions for the upcoming First city Player production of Cale
 ndar Girls on April 8 & 9 at 7:00pm. \nYou need to only attend one auditio
 n. No pre-prepared material needed\, just come ready to read and play!\nRo
 les available for 9 women\, aged 20's-90's and 4 men\, aged 20's-60's.\nFo
 r questions or for more information\, call 225-4792.\nPerformances are Jun
 e 14\, 15 and 21\, 22
DTSTART;TZID=America/Anchorage:20190408T190000
DTEND;TZID=America/Anchorage:20190408T210000
LOCATION:
SUMMARY:FCP's Calendar Girls Auditions
END:VEVENT
END:VCALENDAR
