BEGIN:VCALENDAR
VERSION:2.0
PRODID:-//www.ketchikanarts.org//NONSGML kigkonsult.se iCalcreator 2.30.10/
 /
CALSCALE:GREGORIAN
METHOD:PUBLISH
UID:0c0433a0-3816-4d4a-bcfd-caa8dcbb2a38
X-WR-CALDESC:This is a FUN fundraiser for the programs of the Ketchikan Are
 a Arts and Humanities Council. Seating is limited\, call for tickets or co
 me to the Arts Council and yours up today.
X-WR-RELCALID:3e5fd3d06f687fc8a3f97ebad65f2230
X-WR-TIMEZONE:America/Anchorage
BEGIN:VTIMEZONE
TZID:America/Anchorage
BEGIN:STANDARD
TZNAME:AKST
DTSTART:20181104T020000
TZOFFSETFROM:-0800
TZOFFSETTO:-0900
RDATE:20191103T020000
END:STANDARD
BEGIN:DAYLIGHT
TZNAME:AKDT
DTSTART:20190310T020000
TZOFFSETFROM:-0900
TZOFFSETTO:-0800
RDATE:20200308T020000
END:DAYLIGHT
END:VTIMEZONE
BEGIN:VEVENT
UID:8febd910-e1ee-470f-8883-f823bb9e3101
DTSTAMP:20260422T190238Z
DESCRIPTION:This is a FUN fundraiser for the programs of the Ketchikan Area
  Arts and Humanities Council. Seating is limited\, call for tickets or com
 e to the Arts Council and yours up today.
DTSTART;TZID=America/Anchorage:20190407T140000
DTEND;TZID=America/Anchorage:20190407T163000
LOCATION:Main Street Gallery - 330 Main Street
SUMMARY:How to Entertain with Cheese!!
END:VEVENT
END:VCALENDAR
