BEGIN:VCALENDAR
VERSION:2.0
PRODID:-//www.ketchikanarts.org//NONSGML kigkonsult.se iCalcreator 2.30.10/
 /
CALSCALE:GREGORIAN
METHOD:PUBLISH
UID:de1abb75-e93d-447c-9609-7c21ec7f9be2
X-WR-CALDESC:Alaskan Author Dan O'Neill will speak about his children's boo
 k\, 'Stubborn Gal: The True Story of an Undefeated Sled Dog Racer. This is
  a true story of Sara\, who was determined to compete in a 60-mile sled do
 g race despite discouragement and difficulties.
X-WR-RELCALID:9576fe8adc7afdcc1aff40394c615a80
X-WR-TIMEZONE:America/Anchorage
BEGIN:VTIMEZONE
TZID:America/Anchorage
BEGIN:STANDARD
TZNAME:AKST
DTSTART:20181104T020000
TZOFFSETFROM:-0800
TZOFFSETTO:-0900
RDATE:20191103T020000
END:STANDARD
BEGIN:DAYLIGHT
TZNAME:AKDT
DTSTART:20190310T020000
TZOFFSETFROM:-0900
TZOFFSETTO:-0800
RDATE:20200308T020000
END:DAYLIGHT
END:VTIMEZONE
BEGIN:VEVENT
UID:c72c90e2-d4d7-46ac-a88f-f809968a1354
DTSTAMP:20260422T184900Z
DESCRIPTION:Alaskan Author Dan O'Neill will speak about his children's book
 \, 'Stubborn Gal: The True Story of an Undefeated Sled Dog Racer. This is 
 a true story of Sara\, who was determined to compete in a 60-mile sled dog
  race despite discouragement and difficulties.
DTSTART;TZID=America/Anchorage:20190406T150000
DTEND;TZID=America/Anchorage:20190406T163000
LOCATION:Ketchikan Public Library
SUMMARY:Book Signing
END:VEVENT
END:VCALENDAR
