BEGIN:VCALENDAR
VERSION:2.0
PRODID:-//www.ketchikanarts.org//NONSGML kigkonsult.se iCalcreator 2.30.10/
 /
CALSCALE:GREGORIAN
METHOD:PUBLISH
UID:7a004b24-69e9-4be9-8e0b-d2cd66b5e9a4
X-WR-CALDESC:The KAAHC Board of Directors invites you to explore some of th
 e best American Artisanal Gourmet Cheeses and their makers. Cheesemonger a
 nd proprietor of Fromagio’s Artisan Cheese\, Helen Howarth (Anchorage)\, w
 ill guide you through a special selection of farmstead cheeses produced in
  some surprising places throughout the USA as well as insight into the div
 ersity of cheese in terms of historical animal husbandry\, pastures\, clim
 ate\, and preservation.\n\nJohn DeCherney (Specialty Imports\, Juneau) wil
 l complete the experience with a special collection of wonderful wines to 
 enhance the flavors of the evening!\n\nThis delicious evening is education
 al and you help support the Arts Council as you enjoy yourself! Tickets ar
 e$100 each and limited!! Call to reserve your spot or click the link below
  to purchase now! 907-225-2211
X-WR-RELCALID:974c2530b3c1d3a2d6dead96caac3f7d
X-WR-TIMEZONE:America/Anchorage
BEGIN:VTIMEZONE
TZID:America/Anchorage
BEGIN:STANDARD
TZNAME:AKST
DTSTART:20181104T020000
TZOFFSETFROM:-0800
TZOFFSETTO:-0900
RDATE:20191103T020000
END:STANDARD
BEGIN:DAYLIGHT
TZNAME:AKDT
DTSTART:20190310T020000
TZOFFSETFROM:-0900
TZOFFSETTO:-0800
RDATE:20200308T020000
END:DAYLIGHT
END:VTIMEZONE
BEGIN:VEVENT
UID:ebd504a7-dfa5-46f6-8b5d-4200c384c277
DTSTAMP:20260422T191738Z
DESCRIPTION:The KAAHC Board of Directors invites you to explore some of the
  best American Artisanal Gourmet Cheeses and their makers. Cheesemonger an
 d proprietor of Fromagio’s Artisan Cheese\, Helen Howarth (Anchorage)\, wi
 ll guide you through a special selection of farmstead cheeses produced in 
 some surprising places throughout the USA as well as insight into the dive
 rsity of cheese in terms of historical animal husbandry\, pastures\, clima
 te\, and preservation.\n\nJohn DeCherney (Specialty Imports\, Juneau) will
  complete the experience with a special collection of wonderful wines to e
 nhance the flavors of the evening!\n\nThis delicious evening is educationa
 l and you help support the Arts Council as you enjoy yourself! Tickets are
 $100 each and limited!! Call to reserve your spot or click the link below 
 to purchase now! 907-225-2211
DTSTART;TZID=America/Anchorage:20190406T190000
DTEND;TZID=America/Anchorage:20190406T213000
LOCATION:Creek Street Cabaret
SUMMARY:BACK IN THE USA - An Evening of American Wine and Artisanal Cheeses
 !
END:VEVENT
END:VCALENDAR
