BEGIN:VCALENDAR
VERSION:2.0
PRODID:-//www.ketchikanarts.org//NONSGML kigkonsult.se iCalcreator 2.30.10/
 /
CALSCALE:GREGORIAN
METHOD:PUBLISH
UID:cb6a962d-00d6-4d08-b19d-cd72b592a7b0
X-WR-CALDESC:Main Street Gallery exhibiting Artist Rhonda Green will teachi
 ng us how to make our own kinetic art in her artist presentation. AND we g
 et to go home with our own wind chime!!!  Seats are limited. Please call t
 he Arts Council to reserve your spot! 225-2211
X-WR-RELCALID:b85cde5562918ecd6faa70f0547efdd4
X-WR-TIMEZONE:America/Anchorage
BEGIN:VTIMEZONE
TZID:America/Anchorage
BEGIN:STANDARD
TZNAME:AKST
DTSTART:20181104T020000
TZOFFSETFROM:-0800
TZOFFSETTO:-0900
RDATE:20191103T020000
END:STANDARD
BEGIN:DAYLIGHT
TZNAME:AKDT
DTSTART:20190310T020000
TZOFFSETFROM:-0900
TZOFFSETTO:-0800
RDATE:20200308T020000
END:DAYLIGHT
END:VTIMEZONE
BEGIN:VEVENT
UID:3896c760-97d5-4399-b515-b444cd3f6019
DTSTAMP:20260422T191148Z
DESCRIPTION:Main Street Gallery exhibiting Artist Rhonda Green will teachin
 g us how to make our own kinetic art in her artist presentation. AND we ge
 t to go home with our own wind chime!!!  Seats are limited. Please call th
 e Arts Council to reserve your spot! 225-2211
DTSTART;TZID=America/Anchorage:20190406T120000
DTEND;TZID=America/Anchorage:20190406T140000
LOCATION:Main Street Gallery
SUMMARY:'Make Your Own Wind Chime' Artist Presentation
END:VEVENT
END:VCALENDAR
