BEGIN:VCALENDAR
VERSION:2.0
PRODID:-//www.ketchikanarts.org//NONSGML kigkonsult.se iCalcreator 2.30.10/
 /
CALSCALE:GREGORIAN
METHOD:PUBLISH
UID:7f791236-c99a-49c0-9c15-8c09d7ee8cd5
X-WR-CALDESC:Join us for the Opening Reception of 'My Secret Synergy Garden
 '. The exhibit features an exciting new direction in kinetic art sculpture
 s by artist Rhonda Green including hand constructed sculptural arts pieces
  made from recycled\, new and found metal objects. Main Street Gallery ope
 nings are always the first Friday of the month\, and are free and open to 
 the public.
X-WR-RELCALID:1e5e17b61b49795cb8820282aac2add7
X-WR-TIMEZONE:America/Anchorage
BEGIN:VTIMEZONE
TZID:America/Anchorage
BEGIN:STANDARD
TZNAME:AKST
DTSTART:20181104T020000
TZOFFSETFROM:-0800
TZOFFSETTO:-0900
RDATE:20191103T020000
END:STANDARD
BEGIN:DAYLIGHT
TZNAME:AKDT
DTSTART:20190310T020000
TZOFFSETFROM:-0900
TZOFFSETTO:-0800
RDATE:20200308T020000
END:DAYLIGHT
END:VTIMEZONE
BEGIN:VEVENT
UID:e77d8df6-e3be-4b88-8493-82325e2ed54b
DTSTAMP:20260422T191612Z
DESCRIPTION:Join us for the Opening Reception of 'My Secret Synergy Garden'
 . The exhibit features an exciting new direction in kinetic art sculptures
  by artist Rhonda Green including hand constructed sculptural arts pieces 
 made from recycled\, new and found metal objects. Main Street Gallery open
 ings are always the first Friday of the month\, and are free and open to t
 he public.
DTSTART;TZID=America/Anchorage:20190405T170000
DTEND;TZID=America/Anchorage:20190405T190000
LOCATION:Main Street Gallery
SUMMARY:Opening Reception - 'My Secret Synergy Garden' - Rhonda Green
END:VEVENT
END:VCALENDAR
