BEGIN:VCALENDAR
VERSION:2.0
PRODID:-//www.ketchikanarts.org//NONSGML kigkonsult.se iCalcreator 2.30.10/
 /
CALSCALE:GREGORIAN
METHOD:PUBLISH
UID:58d39f4d-cd96-4566-80e7-b9b93c81774e
X-WR-CALDESC:Entries are due Friday\, April 5\, 2019\n\nMail entries or dro
 p off to KAAHC\, 330 Main St.\, Ketchikan\, AK 99901 or sent via email \nE
 ntries must be a camera-ready design or image.  \nDigital images are prefe
 rred in a scalable vector graphic format (EPS).  PDF and JPG files are acc
 eptable.\nThe design must incorporate the words: “44th Annual Blueberry Ar
 ts Festival”\, “2019”\,  “Ketchikan\, Alaska”.\n\nPlease include the follo
 wing information with your submission: \n		Name\n		Mailing Address \n		Phone \n		E
 mail \n\nEnclose a self-addressed\, stamped envelope if you would like you
 r design returned if it is not chosen.\nThe original artwork of the winnin
 g design will become property of the \nKetchikan Area Arts & Humanities Co
 uncil.\n\nA prize of $500 will be awarded for the chosen design\, plus fam
 e and glory!  \nQuestions? Call 225-2211\n\nPLEASE NOTE: Our organizationa
 l logo and the text “© Ketchikan Area Arts & Humanities Council” will be a
 dded in an unobtrusive area of the design. While you will retain the right
 s to use your image for your portfolio\, KAAHC will own the copyright to t
 he selected work for reproductions.  Artwork previously exhibited in south
 east Alaska is not allowed (this includes art displayed on social media an
 d websites).\n\n
X-WR-RELCALID:1e481eb0586a194374a33593c2727db9
X-WR-TIMEZONE:America/Anchorage
BEGIN:VTIMEZONE
TZID:America/Anchorage
BEGIN:STANDARD
TZNAME:AKST
DTSTART:20181104T020000
TZOFFSETFROM:-0800
TZOFFSETTO:-0900
RDATE:20191103T020000
END:STANDARD
BEGIN:DAYLIGHT
TZNAME:AKDT
DTSTART:20190310T020000
TZOFFSETFROM:-0900
TZOFFSETTO:-0800
RDATE:20200308T020000
END:DAYLIGHT
END:VTIMEZONE
BEGIN:VEVENT
UID:d06b1393-8515-434c-bd9d-b4e810e27f12
DTSTAMP:20260422T191441Z
DESCRIPTION:Entries are due Friday\, April 5\, 2019\n\nMail entries or drop
  off to KAAHC\, 330 Main St.\, Ketchikan\, AK 99901 or sent via email \nEn
 tries must be a camera-ready design or image.  \nDigital images are prefer
 red in a scalable vector graphic format (EPS).  PDF and JPG files are acce
 ptable.\nThe design must incorporate the words: “44th Annual Blueberry Art
 s Festival”\, “2019”\,  “Ketchikan\, Alaska”.\n\nPlease include the follow
 ing information with your submission: \n		Name\n		Mailing Address \n		Phone \n		Em
 ail \n\nEnclose a self-addressed\, stamped envelope if you would like your
  design returned if it is not chosen.\nThe original artwork of the winning
  design will become property of the \nKetchikan Area Arts & Humanities Cou
 ncil.\n\nA prize of $500 will be awarded for the chosen design\, plus fame
  and glory!  \nQuestions? Call 225-2211\n\nPLEASE NOTE: Our organizational
  logo and the text “© Ketchikan Area Arts & Humanities Council” will be ad
 ded in an unobtrusive area of the design. While you will retain the rights
  to use your image for your portfolio\, KAAHC will own the copyright to th
 e selected work for reproductions.  Artwork previously exhibited in southe
 ast Alaska is not allowed (this includes art displayed on social media and
  websites).\n\n
DTSTART;TZID=America/Anchorage:20190405T080000
DTEND;TZID=America/Anchorage:20190405T170000
LOCATION:KAAHC
SUMMARY:2019 Blueberry Logo Call to Artist
END:VEVENT
END:VCALENDAR
