BEGIN:VCALENDAR
VERSION:2.0
PRODID:-//www.ketchikanarts.org//NONSGML kigkonsult.se iCalcreator 2.30.10/
 /
CALSCALE:GREGORIAN
METHOD:PUBLISH
UID:032b6a06-84ff-437f-bf5d-0d62b61db909
X-WR-CALDESC:
X-WR-RELCALID:4f65e62d74f678b9f31078e6059d949d
X-WR-TIMEZONE:America/Anchorage
BEGIN:VTIMEZONE
TZID:America/Anchorage
BEGIN:STANDARD
TZNAME:AKST
DTSTART:20181104T020000
TZOFFSETFROM:-0800
TZOFFSETTO:-0900
RDATE:20191103T020000
END:STANDARD
BEGIN:DAYLIGHT
TZNAME:AKDT
DTSTART:20190310T020000
TZOFFSETFROM:-0900
TZOFFSETTO:-0800
RDATE:20200308T020000
END:DAYLIGHT
END:VTIMEZONE
BEGIN:VEVENT
UID:832f66a8-7dce-4267-8ef0-80b2d64695f6
DTSTAMP:20260422T191256Z
DESCRIPTION:
DTSTART;TZID=America/Anchorage:20190403T190000
DTEND;TZID=America/Anchorage:20190403T200000
LOCATION:
SUMMARY:Kayhi Pre-Fest Choir Concert
END:VEVENT
END:VCALENDAR
