BEGIN:VCALENDAR
VERSION:2.0
PRODID:-//www.ketchikanarts.org//NONSGML kigkonsult.se iCalcreator 2.30.10/
 /
CALSCALE:GREGORIAN
METHOD:PUBLISH
UID:39274330-7cc4-4300-992a-c7898af48476
X-WR-CALDESC:
X-WR-RELCALID:2765590d43e6a2187e788fba06ce2923
X-WR-TIMEZONE:America/Anchorage
BEGIN:VTIMEZONE
TZID:America/Anchorage
BEGIN:STANDARD
TZNAME:AKST
DTSTART:20181104T020000
TZOFFSETFROM:-0800
TZOFFSETTO:-0900
RDATE:20191103T020000
END:STANDARD
BEGIN:DAYLIGHT
TZNAME:AKDT
DTSTART:20190310T020000
TZOFFSETFROM:-0900
TZOFFSETTO:-0800
RDATE:20200308T020000
END:DAYLIGHT
END:VTIMEZONE
BEGIN:VEVENT
UID:3ebb4635-cf5c-4016-9fcd-b752d5804d2a
DTSTAMP:20260422T191256Z
DESCRIPTION:
DTSTART;TZID=America/Anchorage:20190402T190000
DTEND;TZID=America/Anchorage:20190402T200000
LOCATION:Kayhi Auditorium
SUMMARY:Kayhi Pre-fest Band Concert
END:VEVENT
END:VCALENDAR
