BEGIN:VCALENDAR
VERSION:2.0
PRODID:-//www.ketchikanarts.org//NONSGML kigkonsult.se iCalcreator 2.30.10/
 /
CALSCALE:GREGORIAN
METHOD:PUBLISH
UID:4e0b73ab-db67-46cc-9396-0790b7f54b69
X-WR-CALDESC:You are invited to apply! The Juneau Arts and Humanities Counc
 il Juried Art Show runs every other year for one month in the JACC Gallery
 . The selected juror for the 2019 exhibit: Dan DeRoux. \n\nDetails:\nAppli
 cant Eligibility: Artists living in Alaska are eligible to apply and can s
 ubmit up to 3 works of art. JAHC staff and board are not eligible to apply
 .\nArtwork Eligibility: All submissions must be original works completed w
 ithin the last 2 years and NOT previously exhibited in Juneau. Additionall
 y\, artwork submitted for review should not violate city\, state\, or fede
 ral laws or endanger viewers.\nApplications due: no later than March 31\, 
 2019 at 5 PM.\nApplication fee: $35.00. This application fee supports the 
 JAHC Gallery Program and helps offset the cost of a juror. Application fee
  must be paid by April 10\, 2019 at 5 PM\n\nPlease click on the link to fi
 nd the full application form and further information.
X-WR-RELCALID:69af982439b4d5549696b874c556043b
X-WR-TIMEZONE:America/Anchorage
BEGIN:VTIMEZONE
TZID:America/Anchorage
BEGIN:STANDARD
TZNAME:AKST
DTSTART:20181104T020000
TZOFFSETFROM:-0800
TZOFFSETTO:-0900
RDATE:20191103T020000
END:STANDARD
BEGIN:DAYLIGHT
TZNAME:AKDT
DTSTART:20190310T020000
TZOFFSETFROM:-0900
TZOFFSETTO:-0800
RDATE:20200308T020000
END:DAYLIGHT
END:VTIMEZONE
BEGIN:VEVENT
UID:e5178006-1339-4302-8baa-b65ec73ba51e
DTSTAMP:20260422T205021Z
DESCRIPTION:You are invited to apply! The Juneau Arts and Humanities Counci
 l Juried Art Show runs every other year for one month in the JACC Gallery.
  The selected juror for the 2019 exhibit: Dan DeRoux. \n\nDetails:\nApplic
 ant Eligibility: Artists living in Alaska are eligible to apply and can su
 bmit up to 3 works of art. JAHC staff and board are not eligible to apply.
 \nArtwork Eligibility: All submissions must be original works completed wi
 thin the last 2 years and NOT previously exhibited in Juneau. Additionally
 \, artwork submitted for review should not violate city\, state\, or feder
 al laws or endanger viewers.\nApplications due: no later than March 31\, 2
 019 at 5 PM.\nApplication fee: $35.00. This application fee supports the J
 AHC Gallery Program and helps offset the cost of a juror. Application fee 
 must be paid by April 10\, 2019 at 5 PM\n\nPlease click on the link to fin
 d the full application form and further information.
DTSTART;TZID=America/Anchorage:20190331T080000
DTEND;TZID=America/Anchorage:20190331T170000
LOCATION:Juneau Arts and Humanities council
SUMMARY:Call to Artists - 2019 JAHC Juried Art Show
END:VEVENT
END:VCALENDAR
