BEGIN:VCALENDAR
VERSION:2.0
PRODID:-//www.ketchikanarts.org//NONSGML kigkonsult.se iCalcreator 2.30.10/
 /
CALSCALE:GREGORIAN
METHOD:PUBLISH
UID:c75891b4-8158-4f9e-b8a6-0f1b4238d04f
X-WR-CALDESC:The Arts council and Creative Hustler company have teamed up t
 o bring Nashville based\, independent Music Award nominee for 'Best Americ
 an song'\, a veteran performer at Salmonfest and self-proclaimed lover of 
 Alaska\, Tim Easton to Ketchikan in an evening of music joined by select s
 tudents of the Campfire Propaganda Songwriting Workshop. \n\nDoors at 7pm\
 , Performance begins at 7:30pm\n\nTickets - Adults $20\, Senior/Military/S
 tudents $18\, Family Pack $65
X-WR-RELCALID:e0947593ca246de19a10770ff96335be
X-WR-TIMEZONE:America/Anchorage
BEGIN:VTIMEZONE
TZID:America/Anchorage
BEGIN:STANDARD
TZNAME:AKST
DTSTART:20181104T020000
TZOFFSETFROM:-0800
TZOFFSETTO:-0900
RDATE:20191103T020000
END:STANDARD
BEGIN:DAYLIGHT
TZNAME:AKDT
DTSTART:20190310T020000
TZOFFSETFROM:-0900
TZOFFSETTO:-0800
RDATE:20200308T020000
END:DAYLIGHT
END:VTIMEZONE
BEGIN:VEVENT
UID:347cf75e-dd8a-4ac6-9eb4-3c953ef34321
DTSTAMP:20260422T204611Z
DESCRIPTION:The Arts council and Creative Hustler company have teamed up to
  bring Nashville based\, independent Music Award nominee for 'Best America
 n song'\, a veteran performer at Salmonfest and self-proclaimed lover of A
 laska\, Tim Easton to Ketchikan in an evening of music joined by select st
 udents of the Campfire Propaganda Songwriting Workshop. \n\nDoors at 7pm\,
  Performance begins at 7:30pm\n\nTickets - Adults $20\, Senior/Military/St
 udents $18\, Family Pack $65
DTSTART;TZID=America/Anchorage:20190330T193000
DTEND;TZID=America/Anchorage:20190330T213000
LOCATION:Saxman Tribal House
SUMMARY:Tim Easton in Concert!
END:VEVENT
END:VCALENDAR
