BEGIN:VCALENDAR
VERSION:2.0
PRODID:-//www.ketchikanarts.org//NONSGML kigkonsult.se iCalcreator 2.30.10/
 /
CALSCALE:GREGORIAN
METHOD:PUBLISH
UID:1759bf00-2bd6-4320-a912-63ed16ddb031
X-WR-CALDESC:Ain't no party like a Sourdough party\, because a Sourdough pa
 rty has bagel dogs! Musicians Austin Hays\, Chazz Gist\, Dave Rubin\, Joe 
 Williams IV and Brandon Apol will entertain you! It's gonna be quite the s
 how!
X-WR-RELCALID:570c3a38dec0494f495c4e8fea05b1b6
X-WR-TIMEZONE:America/Anchorage
BEGIN:VTIMEZONE
TZID:America/Anchorage
BEGIN:STANDARD
TZNAME:AKST
DTSTART:20181104T020000
TZOFFSETFROM:-0800
TZOFFSETTO:-0900
RDATE:20191103T020000
END:STANDARD
BEGIN:DAYLIGHT
TZNAME:AKDT
DTSTART:20190310T020000
TZOFFSETFROM:-0900
TZOFFSETTO:-0800
RDATE:20200308T020000
END:DAYLIGHT
END:VTIMEZONE
BEGIN:VEVENT
UID:4c725f9a-5db3-4507-aa7a-3e70e33166c4
DTSTAMP:20260422T204552Z
DESCRIPTION:Ain't no party like a Sourdough party\, because a Sourdough par
 ty has bagel dogs! Musicians Austin Hays\, Chazz Gist\, Dave Rubin\, Joe W
 illiams IV and Brandon Apol will entertain you! It's gonna be quite the sh
 ow!
DTSTART;TZID=America/Anchorage:20190330T210000
DTEND;TZID=America/Anchorage:20190331T010000
LOCATION:Sourdough Bar
SUMMARY:K-FUNK at the Dough
END:VEVENT
END:VCALENDAR
