BEGIN:VCALENDAR
VERSION:2.0
PRODID:-//www.ketchikanarts.org//NONSGML kigkonsult.se iCalcreator 2.30.10/
 /
CALSCALE:GREGORIAN
METHOD:PUBLISH
UID:1e6db6b4-36fa-497b-8516-da9e73f5c9b5
X-WR-CALDESC:Join Ketchikan Museums for Family FUNday! from 1-3:00 PM on Sa
 turday\, March 30 at the Tongass Historical Museum. Take the “Can You Find
  It?” challenge\, lend a hand in a community craft\, and explore History M
 ystery. All are welcome for free hands-on activities and exploration of th
 e new special exhibit!
X-WR-RELCALID:a34ba28937130772c85264863eeec297
X-WR-TIMEZONE:America/Anchorage
BEGIN:VTIMEZONE
TZID:America/Anchorage
BEGIN:STANDARD
TZNAME:AKST
DTSTART:20181104T020000
TZOFFSETFROM:-0800
TZOFFSETTO:-0900
RDATE:20191103T020000
END:STANDARD
BEGIN:DAYLIGHT
TZNAME:AKDT
DTSTART:20190310T020000
TZOFFSETFROM:-0900
TZOFFSETTO:-0800
RDATE:20200308T020000
END:DAYLIGHT
END:VTIMEZONE
BEGIN:VEVENT
UID:4f00f2d7-e5aa-42f7-acea-66706e1bcead
DTSTAMP:20260422T205039Z
DESCRIPTION:Join Ketchikan Museums for Family FUNday! from 1-3:00 PM on Sat
 urday\, March 30 at the Tongass Historical Museum. Take the “Can You Find 
 It?” challenge\, lend a hand in a community craft\, and explore History My
 stery. All are welcome for free hands-on activities and exploration of the
  new special exhibit!
DTSTART;TZID=America/Anchorage:20190330T130000
DTEND;TZID=America/Anchorage:20190330T150000
LOCATION:Tongass Historical Museum
SUMMARY:Family FUNday at the Tongass Historical Museum
END:VEVENT
END:VCALENDAR
