BEGIN:VCALENDAR
VERSION:2.0
PRODID:-//www.ketchikanarts.org//NONSGML kigkonsult.se iCalcreator 2.30.10/
 /
CALSCALE:GREGORIAN
METHOD:PUBLISH
UID:4d8afbe1-56ea-4c2b-b3a4-3f9f1771b615
X-WR-CALDESC:Alaskan Artists Only\nArt Commission Budget $30\,925\nDeadline
  for Application March 21\, 9:59 pm AKST\n\nGalena City School District is
  seeking an individual artist or team of artists to provide a public artwo
 rk installation for the Science\, Technology\, Engineering\, Math (STEM) C
 lassroom building at the campus of Galina Interior Learning Academy\, Gale
 na\, Alaska. \n\nHow to Apply: Artists interested in this project must pre
 pare and submit the following items\n1.Resume\n2.Two references with conta
 ct info. from previous art projects \n3. Letter of interest\n4. Artist Sta
 tement\n5. Two - Ten images of original completed artwork. All images must
  be submitted electronically through the Call for Entries (CaFE) system av
 ailable online at www.callforentry.org Applicants are encouraged to apply 
 early to reduce the risk of technical difficulties. Incomplete or late sub
 missions will not be accepted for any reason.\n\nPLEASE SEE LINK BELOW FOR
  FULL CALL INFORMATION. \n
X-WR-RELCALID:3d82084cc60a5e43c21b4602f34f2588
X-WR-TIMEZONE:America/Anchorage
BEGIN:VTIMEZONE
TZID:America/Anchorage
BEGIN:STANDARD
TZNAME:AKST
DTSTART:20181104T020000
TZOFFSETFROM:-0800
TZOFFSETTO:-0900
RDATE:20191103T020000
END:STANDARD
BEGIN:DAYLIGHT
TZNAME:AKDT
DTSTART:20190310T020000
TZOFFSETFROM:-0900
TZOFFSETTO:-0800
RDATE:20200308T020000
END:DAYLIGHT
END:VTIMEZONE
BEGIN:VEVENT
UID:de4159b3-1d4a-4c19-91c2-17a3473ec31b
DTSTAMP:20260422T204912Z
DESCRIPTION:Alaskan Artists Only\nArt Commission Budget $30\,925\nDeadline 
 for Application March 21\, 9:59 pm AKST\n\nGalena City School District is 
 seeking an individual artist or team of artists to provide a public artwor
 k installation for the Science\, Technology\, Engineering\, Math (STEM) Cl
 assroom building at the campus of Galina Interior Learning Academy\, Galen
 a\, Alaska. \n\nHow to Apply: Artists interested in this project must prep
 are and submit the following items\n1.Resume\n2.Two references with contac
 t info. from previous art projects \n3. Letter of interest\n4. Artist Stat
 ement\n5. Two - Ten images of original completed artwork. All images must 
 be submitted electronically through the Call for Entries (CaFE) system ava
 ilable online at www.callforentry.org Applicants are encouraged to apply e
 arly to reduce the risk of technical difficulties. Incomplete or late subm
 issions will not be accepted for any reason.\n\nPLEASE SEE LINK BELOW FOR 
 FULL CALL INFORMATION. \n
DTSTART;TZID=America/Anchorage:20190330T080000
DTEND;TZID=America/Anchorage:20190330T170000
LOCATION:Galena City School District
SUMMARY:Call to Artists - Galena\, Alaska STEM Building
END:VEVENT
END:VCALENDAR
