BEGIN:VCALENDAR
VERSION:2.0
PRODID:-//www.ketchikanarts.org//NONSGML kigkonsult.se iCalcreator 2.30.10/
 /
CALSCALE:GREGORIAN
METHOD:PUBLISH
UID:4fd12418-a754-4bc7-acba-18d67d4dcd32
X-WR-CALDESC:Friday\, March 29: Film - 'Girl Rising'\n\nEducate girls. Chan
 ge the world. Travel around the globe and follow nine girls from Haiti\, N
 epal\, Ethiopia\, India\, Egypt\, Peru\, Cambodia\, Sierra Leone\, and Afg
 hanistan on their journey to education. Film and discussion presented by J
 analee Gage
X-WR-RELCALID:6c4983d9ef68c5c44e4bee2677bddf21
X-WR-TIMEZONE:America/Anchorage
BEGIN:VTIMEZONE
TZID:America/Anchorage
BEGIN:STANDARD
TZNAME:AKST
DTSTART:20181104T020000
TZOFFSETFROM:-0800
TZOFFSETTO:-0900
RDATE:20191103T020000
END:STANDARD
BEGIN:DAYLIGHT
TZNAME:AKDT
DTSTART:20190310T020000
TZOFFSETFROM:-0900
TZOFFSETTO:-0800
RDATE:20200308T020000
END:DAYLIGHT
END:VTIMEZONE
BEGIN:VEVENT
UID:aed5b2a2-4e11-44db-ad70-67f4dd011601
DTSTAMP:20260422T204320Z
DESCRIPTION:Friday\, March 29: Film - 'Girl Rising'\n\nEducate girls. Chang
 e the world. Travel around the globe and follow nine girls from Haiti\, Ne
 pal\, Ethiopia\, India\, Egypt\, Peru\, Cambodia\, Sierra Leone\, and Afgh
 anistan on their journey to education. Film and discussion presented by Ja
 nalee Gage
DTSTART;TZID=America/Anchorage:20190329T180000
DTEND;TZID=America/Anchorage:20190329T193000
LOCATION:Southeast Alaska Discovery Center
SUMMARY:Friday Night Insights
END:VEVENT
END:VCALENDAR
