BEGIN:VCALENDAR
VERSION:2.0
PRODID:-//www.ketchikanarts.org//NONSGML kigkonsult.se iCalcreator 2.30.10/
 /
CALSCALE:GREGORIAN
METHOD:PUBLISH
UID:4baa29bb-44b7-4b05-93a9-9e5a97692c7d
X-WR-CALDESC:The Southeast Alaska Discovery Center invites artists to parti
 cipate in the Alaska Hummingbird Festival Juried Art Show. Works will be d
 isplayed beginning Friday\, April 5th until June 1st\, and there are fabul
 ous prizes to win! Deadline to participate is Friday\, March 29th at 5pm. 
 Opening reception is Friday\, April 5th at from 5 to 7pm. Call Leslie for 
 more info at 228-6290
X-WR-RELCALID:e8822af18e1fb9cc421859b967711e8b
X-WR-TIMEZONE:America/Anchorage
BEGIN:VTIMEZONE
TZID:America/Anchorage
BEGIN:STANDARD
TZNAME:AKST
DTSTART:20181104T020000
TZOFFSETFROM:-0800
TZOFFSETTO:-0900
RDATE:20191103T020000
END:STANDARD
BEGIN:DAYLIGHT
TZNAME:AKDT
DTSTART:20190310T020000
TZOFFSETFROM:-0900
TZOFFSETTO:-0800
RDATE:20200308T020000
END:DAYLIGHT
END:VTIMEZONE
BEGIN:VEVENT
UID:8884d33b-0538-4f0a-85a9-4a800952f125
DTSTAMP:20260422T205049Z
DESCRIPTION:The Southeast Alaska Discovery Center invites artists to partic
 ipate in the Alaska Hummingbird Festival Juried Art Show. Works will be di
 splayed beginning Friday\, April 5th until June 1st\, and there are fabulo
 us prizes to win! Deadline to participate is Friday\, March 29th at 5pm. O
 pening reception is Friday\, April 5th at from 5 to 7pm. Call Leslie for m
 ore info at 228-6290
DTSTART;TZID=America/Anchorage:20190329T080000
DTEND;TZID=America/Anchorage:20190329T170000
LOCATION:Southeast Alaska Discovery Center
SUMMARY:Call to Artists - Alaska Hummingbird Festival Juried Art Show
END:VEVENT
END:VCALENDAR
