BEGIN:VCALENDAR
VERSION:2.0
PRODID:-//www.ketchikanarts.org//NONSGML kigkonsult.se iCalcreator 2.30.10/
 /
CALSCALE:GREGORIAN
METHOD:PUBLISH
UID:01f3a5ab-bbe1-478a-b18d-ce6366de9124
X-WR-CALDESC:Join Dave Rubin\, guitar\, Hannah Karrick\,violin\, and Chazz 
 Gist\, bass\, at the Cape Fox Lodge to listen to them perform.
X-WR-RELCALID:069fc819dba26b833a7c0b92a5c721bc
X-WR-TIMEZONE:America/Anchorage
BEGIN:VTIMEZONE
TZID:America/Anchorage
BEGIN:STANDARD
TZNAME:AKST
DTSTART:20181104T020000
TZOFFSETFROM:-0800
TZOFFSETTO:-0900
RDATE:20191103T020000
END:STANDARD
BEGIN:DAYLIGHT
TZNAME:AKDT
DTSTART:20190310T020000
TZOFFSETFROM:-0900
TZOFFSETTO:-0800
RDATE:20200308T020000
END:DAYLIGHT
END:VTIMEZONE
BEGIN:VEVENT
UID:250b5f71-6113-46cd-b7dc-abd41b128d2a
DTSTAMP:20260422T204643Z
DESCRIPTION:Join Dave Rubin\, guitar\, Hannah Karrick\,violin\, and Chazz G
 ist\, bass\, at the Cape Fox Lodge to listen to them perform.
DTSTART;TZID=America/Anchorage:20190328T170000
DTEND;TZID=America/Anchorage:20190328T203000
LOCATION:Cape Fox Lodge
SUMMARY:Live Music at Cape Fox
END:VEVENT
END:VCALENDAR
