BEGIN:VCALENDAR
VERSION:2.0
PRODID:-//www.ketchikanarts.org//NONSGML kigkonsult.se iCalcreator 2.30.10/
 /
CALSCALE:GREGORIAN
METHOD:PUBLISH
UID:9cdf8929-ebd7-4ebe-b15f-a2ea50186572
X-WR-CALDESC:The Ketchikan Community Chorus meets each Tuesday from 7 to 9p
 m at the Presbyterian Church.
X-WR-RELCALID:f6ea4601285fe98ec2221a238f27389e
X-WR-TIMEZONE:America/Anchorage
BEGIN:VTIMEZONE
TZID:America/Anchorage
BEGIN:STANDARD
TZNAME:AKST
DTSTART:20181104T020000
TZOFFSETFROM:-0800
TZOFFSETTO:-0900
RDATE:20191103T020000
END:STANDARD
BEGIN:DAYLIGHT
TZNAME:AKDT
DTSTART:20190310T020000
TZOFFSETFROM:-0900
TZOFFSETTO:-0800
RDATE:20200308T020000
END:DAYLIGHT
END:VTIMEZONE
BEGIN:VEVENT
UID:662545aa-3a45-4a9a-b406-0d86c00ce483
DTSTAMP:20260422T204936Z
DESCRIPTION:The Ketchikan Community Chorus meets each Tuesday from 7 to 9pm
  at the Presbyterian Church.
DTSTART;TZID=America/Anchorage:20190326T190000
DTEND;TZID=America/Anchorage:20190326T210000
LOCATION:Ketchikan Presbyterian Church
SUMMARY:Ketchikan Community Chorus Rehearsal
END:VEVENT
END:VCALENDAR
