BEGIN:VCALENDAR
VERSION:2.0
PRODID:-//www.ketchikanarts.org//NONSGML kigkonsult.se iCalcreator 2.30.10/
 /
CALSCALE:GREGORIAN
METHOD:PUBLISH
UID:48c9a4f8-4f20-48dd-8c20-d3a14050d9df
X-WR-CALDESC:Manga Drawing Class with instructor Ema Oshima. 4:30 pm for te
 ens and adults.  Supplies are provided\, call 225-3331 for more informatio
 n.\n \n
X-WR-RELCALID:ed17a1240c86dab7c9a78e475f4a450e
X-WR-TIMEZONE:America/Anchorage
BEGIN:VTIMEZONE
TZID:America/Anchorage
BEGIN:STANDARD
TZNAME:AKST
DTSTART:20181104T020000
TZOFFSETFROM:-0800
TZOFFSETTO:-0900
RDATE:20191103T020000
END:STANDARD
BEGIN:DAYLIGHT
TZNAME:AKDT
DTSTART:20190310T020000
TZOFFSETFROM:-0900
TZOFFSETTO:-0800
RDATE:20200308T020000
END:DAYLIGHT
END:VTIMEZONE
BEGIN:VEVENT
UID:fbc65a79-e5d0-4bdb-b118-27f250ec0e22
DTSTAMP:20260422T204646Z
DESCRIPTION:Manga Drawing Class with instructor Ema Oshima. 4:30 pm for tee
 ns and adults.  Supplies are provided\, call 225-3331 for more information
 .\n \n
DTSTART;TZID=America/Anchorage:20190325T163000
DTEND;TZID=America/Anchorage:20190325T173000
LOCATION:Ketchikan Public Library
SUMMARY:Manga Drawing Class for Teens and Adults
END:VEVENT
END:VCALENDAR
