BEGIN:VCALENDAR
VERSION:2.0
PRODID:-//www.ketchikanarts.org//NONSGML kigkonsult.se iCalcreator 2.30.10/
 /
CALSCALE:GREGORIAN
METHOD:PUBLISH
UID:3c6e26bb-66d2-4457-8e33-96765bc9d57c
X-WR-CALDESC:Manga Drawing Class with instructor Ema Oshima.  3:30 pm for k
 ids\;  Supplies are provided\, call 225-3331 for more information.
X-WR-RELCALID:719943592f9124b5902854cc23b29bbc
X-WR-TIMEZONE:America/Anchorage
BEGIN:VTIMEZONE
TZID:America/Anchorage
BEGIN:STANDARD
TZNAME:AKST
DTSTART:20181104T020000
TZOFFSETFROM:-0800
TZOFFSETTO:-0900
RDATE:20191103T020000
END:STANDARD
BEGIN:DAYLIGHT
TZNAME:AKDT
DTSTART:20190310T020000
TZOFFSETFROM:-0900
TZOFFSETTO:-0800
RDATE:20200308T020000
END:DAYLIGHT
END:VTIMEZONE
BEGIN:VEVENT
UID:59771750-6ff6-4865-a249-dca53f4efcf0
DTSTAMP:20260422T204453Z
DESCRIPTION:Manga Drawing Class with instructor Ema Oshima.  3:30 pm for ki
 ds\;  Supplies are provided\, call 225-3331 for more information.
DTSTART;TZID=America/Anchorage:20190325T153000
DTEND;TZID=America/Anchorage:20190325T163000
LOCATION:Ketchikan Public Library
SUMMARY:Manga Drawing Class for kids
END:VEVENT
END:VCALENDAR
