BEGIN:VCALENDAR
VERSION:2.0
PRODID:-//www.ketchikanarts.org//NONSGML kigkonsult.se iCalcreator 2.30.10/
 /
CALSCALE:GREGORIAN
METHOD:PUBLISH
UID:9c6f8eae-658b-4b4a-8b96-8ea50ea501cb
X-WR-CALDESC:Join Windjammers Jazz BIG band led by Roy McPherson in the Spr
 ing extravaganza!!!  Seating is limited so get there early.
X-WR-RELCALID:d183c65a48df7b8331e2f57fdc04afe3
X-WR-TIMEZONE:America/Anchorage
BEGIN:VTIMEZONE
TZID:America/Anchorage
BEGIN:STANDARD
TZNAME:AKST
DTSTART:20181104T020000
TZOFFSETFROM:-0800
TZOFFSETTO:-0900
RDATE:20191103T020000
END:STANDARD
BEGIN:DAYLIGHT
TZNAME:AKDT
DTSTART:20190310T020000
TZOFFSETFROM:-0900
TZOFFSETTO:-0800
RDATE:20200308T020000
END:DAYLIGHT
END:VTIMEZONE
BEGIN:VEVENT
UID:3ef5c304-2d23-4e51-aee6-03d54e483015
DTSTAMP:20260422T204746Z
DESCRIPTION:Join Windjammers Jazz BIG band led by Roy McPherson in the Spri
 ng extravaganza!!!  Seating is limited so get there early.
DTSTART;TZID=America/Anchorage:20190323T190000
DTEND;TZID=America/Anchorage:20190323T210000
LOCATION:Creek Street Cabaret
SUMMARY:Windjammers at Creek Street Cabaret!!!
END:VEVENT
END:VCALENDAR
