BEGIN:VCALENDAR
VERSION:2.0
PRODID:-//www.ketchikanarts.org//NONSGML kigkonsult.se iCalcreator 2.30.10/
 /
CALSCALE:GREGORIAN
METHOD:PUBLISH
UID:37c09cc6-8b8e-4542-b21a-a77d9ae934b3
X-WR-CALDESC:Author Patrice Hammer presents her new novel\, The Weavings of
  Akaria\, the first book in the Veils of Wisdom series. Books will be avai
 lable for purchase.
X-WR-RELCALID:8b387d140cd6a19c3cb045ee012799aa
X-WR-TIMEZONE:America/Anchorage
BEGIN:VTIMEZONE
TZID:America/Anchorage
BEGIN:STANDARD
TZNAME:AKST
DTSTART:20181104T020000
TZOFFSETFROM:-0800
TZOFFSETTO:-0900
RDATE:20191103T020000
END:STANDARD
BEGIN:DAYLIGHT
TZNAME:AKDT
DTSTART:20190310T020000
TZOFFSETFROM:-0900
TZOFFSETTO:-0800
RDATE:20200308T020000
END:DAYLIGHT
END:VTIMEZONE
BEGIN:VEVENT
UID:528d5bc7-5d02-490f-ace3-863e9eb5d3f2
DTSTAMP:20260422T204426Z
DESCRIPTION:Author Patrice Hammer presents her new novel\, The Weavings of 
 Akaria\, the first book in the Veils of Wisdom series. Books will be avail
 able for purchase.
DTSTART;TZID=America/Anchorage:20190323T150000
DTEND;TZID=America/Anchorage:20190323T163000
LOCATION:Ketchikan Public Library
SUMMARY:Author Patrice Hammer
END:VEVENT
END:VCALENDAR
