BEGIN:VCALENDAR
VERSION:2.0
PRODID:-//www.ketchikanarts.org//NONSGML kigkonsult.se iCalcreator 2.30.10/
 /
CALSCALE:GREGORIAN
METHOD:PUBLISH
UID:b6877505-85eb-44e6-80f8-02892124bec3
X-WR-CALDESC:Friday\, March 22: Film - 'Hooked' \n\nOpiod use in Ketchikan 
 Every day\, more than 115 people in the United States lose their lives aft
 er overdosing on opioids. The misuse of and addiction to opioids—including
  prescription pain relievers\, heroin\, and synthetic opioids such as fent
 anyl—is a serious national crisis that affects public health as well as so
 cial and economic welfare. Presented by Reed Harding from the Wellness Coa
 lition Task Force\, “Hooked” will explore the impacts and outcomes of the 
 opiod crises in our community.
X-WR-RELCALID:2a2cbed430b225bd616591b1e4429a2a
X-WR-TIMEZONE:America/Anchorage
BEGIN:VTIMEZONE
TZID:America/Anchorage
BEGIN:STANDARD
TZNAME:AKST
DTSTART:20181104T020000
TZOFFSETFROM:-0800
TZOFFSETTO:-0900
RDATE:20191103T020000
END:STANDARD
BEGIN:DAYLIGHT
TZNAME:AKDT
DTSTART:20190310T020000
TZOFFSETFROM:-0900
TZOFFSETTO:-0800
RDATE:20200308T020000
END:DAYLIGHT
END:VTIMEZONE
BEGIN:VEVENT
UID:b7a396d5-a06c-4f28-a702-ed756bedeba3
DTSTAMP:20260422T204316Z
DESCRIPTION:Friday\, March 22: Film - 'Hooked' \n\nOpiod use in Ketchikan E
 very day\, more than 115 people in the United States lose their lives afte
 r overdosing on opioids. The misuse of and addiction to opioids—including 
 prescription pain relievers\, heroin\, and synthetic opioids such as fenta
 nyl—is a serious national crisis that affects public health as well as soc
 ial and economic welfare. Presented by Reed Harding from the Wellness Coal
 ition Task Force\, “Hooked” will explore the impacts and outcomes of the o
 piod crises in our community.
DTSTART;TZID=America/Anchorage:20190322T180000
DTEND;TZID=America/Anchorage:20190322T193000
LOCATION:Southeast Alaska Discovery Center
SUMMARY:Friday Night Insights
END:VEVENT
END:VCALENDAR
