BEGIN:VCALENDAR
VERSION:2.0
PRODID:-//www.ketchikanarts.org//NONSGML kigkonsult.se iCalcreator 2.30.10/
 /
CALSCALE:GREGORIAN
METHOD:PUBLISH
UID:db7ee2c8-e0ba-48c1-b48d-a90987e1dde4
X-WR-CALDESC:Only 15 spots available. $100 per person.
X-WR-RELCALID:589e684b5e5d70e8f791c0ca1ddc9516
X-WR-TIMEZONE:America/Anchorage
BEGIN:VTIMEZONE
TZID:America/Anchorage
BEGIN:STANDARD
TZNAME:AKST
DTSTART:20181104T020000
TZOFFSETFROM:-0800
TZOFFSETTO:-0900
RDATE:20191103T020000
END:STANDARD
BEGIN:DAYLIGHT
TZNAME:AKDT
DTSTART:20190310T020000
TZOFFSETFROM:-0900
TZOFFSETTO:-0800
RDATE:20200308T020000
END:DAYLIGHT
END:VTIMEZONE
BEGIN:VEVENT
UID:e05f33f2-bc4e-411b-a60c-f1adeb1813c0
DTSTAMP:20260422T204611Z
DESCRIPTION:Only 15 spots available. $100 per person.
DTSTART;TZID=America/Anchorage:20190321T100000
DTEND;TZID=America/Anchorage:20190324T110000
LOCATION:Kooteeyaa Koffee House
SUMMARY:Skin Sewing Class with Louise Kadinger
END:VEVENT
END:VCALENDAR
