BEGIN:VCALENDAR
VERSION:2.0
PRODID:-//www.ketchikanarts.org//NONSGML kigkonsult.se iCalcreator 2.30.10/
 /
CALSCALE:GREGORIAN
METHOD:PUBLISH
UID:4f2a9f82-385b-4398-a6e0-a4ef66ec4289
X-WR-CALDESC:Drop-In Writes & Group Discussion Meetings. The writing room w
 ill be open at 2pm for self-guided writing and fellowship\, with a group m
 eeting to discuss the writing craft and exchange feedback and critique fro
 m 5 to 6pm.
X-WR-RELCALID:2934cd7c216013be03e119987fc0bf72
X-WR-TIMEZONE:America/Anchorage
BEGIN:VTIMEZONE
TZID:America/Anchorage
BEGIN:STANDARD
TZNAME:AKST
DTSTART:20181104T020000
TZOFFSETFROM:-0800
TZOFFSETTO:-0900
RDATE:20191103T020000
END:STANDARD
BEGIN:DAYLIGHT
TZNAME:AKDT
DTSTART:20190310T020000
TZOFFSETFROM:-0900
TZOFFSETTO:-0800
RDATE:20200308T020000
END:DAYLIGHT
END:VTIMEZONE
BEGIN:VEVENT
UID:2e720d76-e722-4017-8bc0-d49e32ed35ab
DTSTAMP:20260422T204736Z
DESCRIPTION:Drop-In Writes & Group Discussion Meetings. The writing room wi
 ll be open at 2pm for self-guided writing and fellowship\, with a group me
 eting to discuss the writing craft and exchange feedback and critique from
  5 to 6pm.
DTSTART;TZID=America/Anchorage:20190321T140000
DTEND;TZID=America/Anchorage:20190321T180000
LOCATION:Ketchikan Public Library
SUMMARY:Fellowship of the Pen - Drop-In Writes & Group Discussions
END:VEVENT
END:VCALENDAR
