BEGIN:VCALENDAR
VERSION:2.0
PRODID:-//www.ketchikanarts.org//NONSGML kigkonsult.se iCalcreator 2.30.10/
 /
CALSCALE:GREGORIAN
METHOD:PUBLISH
UID:9ac23721-92c9-444a-b438-83bc160db9c8
X-WR-CALDESC:Not a class\, but a practice group. Life Drawing is the practi
 ce of drawing from a live model. It is the foundation of any rigorous art 
 training.\nDrop in $15.\n
X-WR-RELCALID:23ca7a66986df511cc712e34810f1c27
X-WR-TIMEZONE:America/Anchorage
BEGIN:VTIMEZONE
TZID:America/Anchorage
BEGIN:STANDARD
TZNAME:AKST
DTSTART:20181104T020000
TZOFFSETFROM:-0800
TZOFFSETTO:-0900
RDATE:20191103T020000
END:STANDARD
BEGIN:DAYLIGHT
TZNAME:AKDT
DTSTART:20190310T020000
TZOFFSETFROM:-0900
TZOFFSETTO:-0800
RDATE:20200308T020000
END:DAYLIGHT
END:VTIMEZONE
BEGIN:VEVENT
UID:b9d9156f-1901-4117-911f-010016625119
DTSTAMP:20260422T204738Z
DESCRIPTION:Not a class\, but a practice group. Life Drawing is the practic
 e of drawing from a live model. It is the foundation of any rigorous art t
 raining.\nDrop in $15.\n
DTSTART;TZID=America/Anchorage:20190319T190000
DTEND;TZID=America/Anchorage:20190319T210000
LOCATION:The Main Street Gallery
SUMMARY:Life Drawing with Dave Rubin
END:VEVENT
END:VCALENDAR
