BEGIN:VCALENDAR
VERSION:2.0
PRODID:-//www.ketchikanarts.org//NONSGML kigkonsult.se iCalcreator 2.30.10/
 /
CALSCALE:GREGORIAN
METHOD:PUBLISH
UID:e6c6bbec-b424-41ee-9f0f-4e7da318b4bd
X-WR-CALDESC:The Ketchikan Community Chorus meets each Tuesday from 7 to 9p
 m at the Presbyterian Church.
X-WR-RELCALID:8c7c25301d4900ee9f360828d817add0
X-WR-TIMEZONE:America/Anchorage
BEGIN:VTIMEZONE
TZID:America/Anchorage
BEGIN:STANDARD
TZNAME:AKST
DTSTART:20181104T020000
TZOFFSETFROM:-0800
TZOFFSETTO:-0900
RDATE:20191103T020000
END:STANDARD
BEGIN:DAYLIGHT
TZNAME:AKDT
DTSTART:20190310T020000
TZOFFSETFROM:-0900
TZOFFSETTO:-0800
RDATE:20200308T020000
END:DAYLIGHT
END:VTIMEZONE
BEGIN:VEVENT
UID:51863503-3c91-4268-92e6-44cc950eedf7
DTSTAMP:20260422T204926Z
DESCRIPTION:The Ketchikan Community Chorus meets each Tuesday from 7 to 9pm
  at the Presbyterian Church.
DTSTART;TZID=America/Anchorage:20190319T190000
DTEND;TZID=America/Anchorage:20190319T210000
LOCATION:Ketchikan Presbyterian Church
SUMMARY:Ketchikan Community Chorus Rehearsal
END:VEVENT
END:VCALENDAR
