BEGIN:VCALENDAR
VERSION:2.0
PRODID:-//www.ketchikanarts.org//NONSGML kigkonsult.se iCalcreator 2.30.10/
 /
CALSCALE:GREGORIAN
METHOD:PUBLISH
UID:13815e84-0ff4-4d4d-9fa0-c0dd02a3c480
X-WR-CALDESC:The Voices of the Wilderness artist residency is a unique oppo
 rtunity. It is modeled after traditional residencies in the national parks
 …with a twist. Instead of staying at a remote wilderness cabin\, our parti
 cipating artists are paired with a wilderness ranger and actively engaged 
 in stewardship projects\, such as research\, monitoring\, and education. T
 he idea is to give artists a sense of the stewardship behind America’s pub
 lic lands\, fostering an artistic exploration of these natural and cultura
 l treasures. The hoped-for result is artwork that communicates something o
 f the meaning of these lands.    Barbara Lydon at blydon@fs.fed.us
X-WR-RELCALID:2afb506a674eb3e45928e9c3a8592978
X-WR-TIMEZONE:America/Anchorage
BEGIN:VTIMEZONE
TZID:America/Anchorage
BEGIN:STANDARD
TZNAME:AKST
DTSTART:20181104T020000
TZOFFSETFROM:-0800
TZOFFSETTO:-0900
RDATE:20191103T020000
END:STANDARD
BEGIN:DAYLIGHT
TZNAME:AKDT
DTSTART:20190310T020000
TZOFFSETFROM:-0900
TZOFFSETTO:-0800
RDATE:20200308T020000
END:DAYLIGHT
END:VTIMEZONE
BEGIN:VEVENT
UID:fe4e1483-b665-4823-96bb-fb4580b0ce2f
DTSTAMP:20260422T205041Z
DESCRIPTION:The Voices of the Wilderness artist residency is a unique oppor
 tunity. It is modeled after traditional residencies in the national parks…
 with a twist. Instead of staying at a remote wilderness cabin\, our partic
 ipating artists are paired with a wilderness ranger and actively engaged i
 n stewardship projects\, such as research\, monitoring\, and education. Th
 e idea is to give artists a sense of the stewardship behind America’s publ
 ic lands\, fostering an artistic exploration of these natural and cultural
  treasures. The hoped-for result is artwork that communicates something of
  the meaning of these lands.    Barbara Lydon at blydon@fs.fed.us
DTSTART;TZID=America/Anchorage:20190318T090000
DTEND;TZID=America/Anchorage:20190318T170000
LOCATION:
SUMMARY:Voice of the Wilderness Call to Artists
END:VEVENT
END:VCALENDAR
