BEGIN:VCALENDAR
VERSION:2.0
PRODID:-//www.ketchikanarts.org//NONSGML kigkonsult.se iCalcreator 2.30.10/
 /
CALSCALE:GREGORIAN
METHOD:PUBLISH
UID:97f3cb4f-203e-482b-804d-f5a0f114c651
X-WR-CALDESC:Students grade 6 - 12 practice their weaving skills with Holly
  Churchill. SPRING BREAK! \nMarch 18th - March 22nd\, 8:00 am - 12:00 pm. 
 Registration fee $125. 
X-WR-RELCALID:e73ecda59fe84f0c409d9322bde7cd8b
X-WR-TIMEZONE:America/Anchorage
BEGIN:VTIMEZONE
TZID:America/Anchorage
BEGIN:STANDARD
TZNAME:AKST
DTSTART:20181104T020000
TZOFFSETFROM:-0800
TZOFFSETTO:-0900
RDATE:20191103T020000
END:STANDARD
BEGIN:DAYLIGHT
TZNAME:AKDT
DTSTART:20190310T020000
TZOFFSETFROM:-0900
TZOFFSETTO:-0800
RDATE:20200308T020000
END:DAYLIGHT
END:VTIMEZONE
BEGIN:VEVENT
UID:d21b4002-a735-4fa6-b0a2-b5ff0d2a7439
DTSTAMP:20260422T204747Z
DESCRIPTION:Students grade 6 - 12 practice their weaving skills with Holly 
 Churchill. SPRING BREAK! \nMarch 18th - March 22nd\, 8:00 am - 12:00 pm. R
 egistration fee $125. 
DTSTART;TZID=America/Anchorage:20190318T080000
DTEND;TZID=America/Anchorage:20190322T120000
LOCATION:Totem Heritage Center
SUMMARY:Spring Break - Cedar Bark Weaving w/ Holly Churchill!
END:VEVENT
END:VCALENDAR
