BEGIN:VCALENDAR
VERSION:2.0
PRODID:-//www.ketchikanarts.org//NONSGML kigkonsult.se iCalcreator 2.30.10/
 /
CALSCALE:GREGORIAN
METHOD:PUBLISH
UID:a54f17bb-6ec8-4eca-98d4-23b221aa9392
X-WR-CALDESC:Come make Seed Paper: Part 1 – for all ages drop-in 2-4\nChild
 ren under the age of 9 must be accompanied by an adult.  For questions ple
 ase call 225-3331.\n
X-WR-RELCALID:e27645718d3c2dd95829de191ff28e47
X-WR-TIMEZONE:America/Anchorage
BEGIN:VTIMEZONE
TZID:America/Anchorage
BEGIN:STANDARD
TZNAME:AKST
DTSTART:20181104T020000
TZOFFSETFROM:-0800
TZOFFSETTO:-0900
RDATE:20191103T020000
END:STANDARD
BEGIN:DAYLIGHT
TZNAME:AKDT
DTSTART:20190310T020000
TZOFFSETFROM:-0900
TZOFFSETTO:-0800
RDATE:20200308T020000
END:DAYLIGHT
END:VTIMEZONE
BEGIN:VEVENT
UID:b468dd0d-0ad6-4f9b-833c-c9eebaf9a5d2
DTSTAMP:20260422T204423Z
DESCRIPTION:Come make Seed Paper: Part 1 – for all ages drop-in 2-4\nChildr
 en under the age of 9 must be accompanied by an adult.  For questions plea
 se call 225-3331.\n
DTSTART;TZID=America/Anchorage:20190318T140000
DTEND;TZID=America/Anchorage:20190318T160000
LOCATION:Ketchikan Public Library
SUMMARY:Seed Paper:  Part 1
END:VEVENT
END:VCALENDAR
