BEGIN:VCALENDAR
VERSION:2.0
PRODID:-//www.ketchikanarts.org//NONSGML kigkonsult.se iCalcreator 2.30.10/
 /
CALSCALE:GREGORIAN
METHOD:PUBLISH
UID:08af9fb5-df82-4bc6-a42d-3975118d009e
X-WR-CALDESC:The 7th Annual St. Patrick's Day Parade is a tradition in Ketc
 hikan and this year is no different! Gather at Berth 2 at 1:30 for the par
 ade and end at O'Arctic Bar to listen to the awesome Bowi Band beginning a
 t 2:30. The Bowi Band is another Ketchikan tradition\, they have been here
  for ALL Ketchikan's St. Patrick's Day Parade Celebrations and we are so h
 appy to see and hear them again this year!!  \n\nWatch the Ketchikan St. P
 atrick's Day Parade Facebook page for up to date info!!
X-WR-RELCALID:b070acd7f851fc1fdd999e5d9a3a72c5
X-WR-TIMEZONE:America/Anchorage
BEGIN:VTIMEZONE
TZID:America/Anchorage
BEGIN:STANDARD
TZNAME:AKST
DTSTART:20181104T020000
TZOFFSETFROM:-0800
TZOFFSETTO:-0900
RDATE:20191103T020000
END:STANDARD
BEGIN:DAYLIGHT
TZNAME:AKDT
DTSTART:20190310T020000
TZOFFSETFROM:-0900
TZOFFSETTO:-0800
RDATE:20200308T020000
END:DAYLIGHT
END:VTIMEZONE
BEGIN:VEVENT
UID:e2f2235a-9249-4952-9d66-126905ceebd8
DTSTAMP:20260422T204423Z
DESCRIPTION:The 7th Annual St. Patrick's Day Parade is a tradition in Ketch
 ikan and this year is no different! Gather at Berth 2 at 1:30 for the para
 de and end at O'Arctic Bar to listen to the awesome Bowi Band beginning at
  2:30. The Bowi Band is another Ketchikan tradition\, they have been here 
 for ALL Ketchikan's St. Patrick's Day Parade Celebrations and we are so ha
 ppy to see and hear them again this year!!  \n\nWatch the Ketchikan St. Pa
 trick's Day Parade Facebook page for up to date info!!
DTSTART;TZID=America/Anchorage:20190316T133000
DTEND;TZID=America/Anchorage:20190316T143000
LOCATION:Begins at Berth 2 Ends at O'Arctic Bar
SUMMARY:St. Patrick's Day Parade 2019
END:VEVENT
END:VCALENDAR
