BEGIN:VCALENDAR
VERSION:2.0
PRODID:-//www.ketchikanarts.org//NONSGML kigkonsult.se iCalcreator 2.30.10/
 /
CALSCALE:GREGORIAN
METHOD:PUBLISH
UID:8c2434ae-4a8e-4bf5-aba9-ef0ff580c9ff
X-WR-CALDESC:Friends of the Library Book sale at the Library - 10am to 5pm.
  Books\, DVDs and CDs $1 each!
X-WR-RELCALID:29d4f9490b90fce98a74b990384daaf6
X-WR-TIMEZONE:America/Anchorage
BEGIN:VTIMEZONE
TZID:America/Anchorage
BEGIN:STANDARD
TZNAME:AKST
DTSTART:20181104T020000
TZOFFSETFROM:-0800
TZOFFSETTO:-0900
RDATE:20191103T020000
END:STANDARD
BEGIN:DAYLIGHT
TZNAME:AKDT
DTSTART:20190310T020000
TZOFFSETFROM:-0900
TZOFFSETTO:-0800
RDATE:20200308T020000
END:DAYLIGHT
END:VTIMEZONE
BEGIN:VEVENT
UID:f988b3cc-2cd2-4d26-af84-b5019005f558
DTSTAMP:20260422T204452Z
DESCRIPTION:Friends of the Library Book sale at the Library - 10am to 5pm. 
 Books\, DVDs and CDs $1 each!
DTSTART;TZID=America/Anchorage:20190316T100000
DTEND;TZID=America/Anchorage:20190316T170000
LOCATION:Ketchikan Public Library
SUMMARY:Book Sales at the Library
END:VEVENT
END:VCALENDAR
