BEGIN:VCALENDAR
VERSION:2.0
PRODID:-//www.ketchikanarts.org//NONSGML kigkonsult.se iCalcreator 2.30.10/
 /
CALSCALE:GREGORIAN
METHOD:PUBLISH
UID:f58d6ea5-e19b-405e-b305-a670d0129911
X-WR-CALDESC:Join artist Steven Villano to learn techniques for acrylic pai
 nting in a relaxed setting with friends! Classes are $30 per student in ad
 vance or $40 the week of the class. Call early to reserve your spot now!!!
  907-225-2211
X-WR-RELCALID:0ce3a49f25ed1220a183e22a84ac00c6
X-WR-TIMEZONE:America/Anchorage
BEGIN:VTIMEZONE
TZID:America/Anchorage
BEGIN:STANDARD
TZNAME:AKST
DTSTART:20181104T020000
TZOFFSETFROM:-0800
TZOFFSETTO:-0900
RDATE:20191103T020000
END:STANDARD
BEGIN:DAYLIGHT
TZNAME:AKDT
DTSTART:20190310T020000
TZOFFSETFROM:-0900
TZOFFSETTO:-0800
RDATE:20200308T020000
END:DAYLIGHT
END:VTIMEZONE
BEGIN:VEVENT
UID:136dd7cf-fb1f-4dbc-ac74-90c474e549b1
DTSTAMP:20260422T204608Z
DESCRIPTION:Join artist Steven Villano to learn techniques for acrylic pain
 ting in a relaxed setting with friends! Classes are $30 per student in adv
 ance or $40 the week of the class. Call early to reserve your spot now!!! 
 907-225-2211
DTSTART;TZID=America/Anchorage:20190315T190000
DTEND;TZID=America/Anchorage:20190315T210000
LOCATION:Main Street Gallery
SUMMARY:Arts Uncorked: Acrylic Techniques with Steven Villano
END:VEVENT
END:VCALENDAR
