BEGIN:VCALENDAR
VERSION:2.0
PRODID:-//www.ketchikanarts.org//NONSGML kigkonsult.se iCalcreator 2.30.10/
 /
CALSCALE:GREGORIAN
METHOD:PUBLISH
UID:6dbd4039-578f-457b-a042-664e63f311a3
X-WR-CALDESC:Join First City Players for their presentation of {Proof} a pl
 ay by David Auburn.
X-WR-RELCALID:af27efc2994433ab551cc0f232c7109f
X-WR-TIMEZONE:America/Anchorage
BEGIN:VTIMEZONE
TZID:America/Anchorage
BEGIN:STANDARD
TZNAME:AKST
DTSTART:20181104T020000
TZOFFSETFROM:-0800
TZOFFSETTO:-0900
RDATE:20191103T020000
END:STANDARD
BEGIN:DAYLIGHT
TZNAME:AKDT
DTSTART:20180311T020000
TZOFFSETFROM:-0900
TZOFFSETTO:-0800
RDATE:20190310T020000
RDATE:20200308T020000
END:DAYLIGHT
END:VTIMEZONE
BEGIN:VEVENT
UID:1842a23b-13e4-492f-968a-77d54e9485e4
DTSTAMP:20260422T204611Z
DESCRIPTION:Join First City Players for their presentation of {Proof} a pla
 y by David Auburn.
DTSTART;TZID=America/Anchorage:20190309T193000
DTEND;TZID=America/Anchorage:20190310T213000
LOCATION:Kayhi Auditorium
SUMMARY:First City Players Presents {Proof}
END:VEVENT
END:VCALENDAR
