BEGIN:VCALENDAR
VERSION:2.0
PRODID:-//www.ketchikanarts.org//NONSGML kigkonsult.se iCalcreator 2.30.10/
 /
CALSCALE:GREGORIAN
METHOD:PUBLISH
UID:02e898fe-4438-4191-8903-b3d5ccd28020
X-WR-CALDESC:Tween craft - Rockin' Animals for kids ages 9-12 can make rock
  animal art using rocks\, acrylic paint\, markers and fabric at 4 pm.
X-WR-RELCALID:85ee14696ce0489274f3002cae2fbfb8
X-WR-TIMEZONE:America/Anchorage
BEGIN:VTIMEZONE
TZID:America/Anchorage
BEGIN:STANDARD
TZNAME:AKST
DTSTART:20181104T020000
TZOFFSETFROM:-0800
TZOFFSETTO:-0900
RDATE:20191103T020000
END:STANDARD
BEGIN:DAYLIGHT
TZNAME:AKDT
DTSTART:20180311T020000
TZOFFSETFROM:-0900
TZOFFSETTO:-0800
RDATE:20190310T020000
RDATE:20200308T020000
END:DAYLIGHT
END:VTIMEZONE
BEGIN:VEVENT
UID:35075fe9-4d72-4e97-b47c-0301a2b60542
DTSTAMP:20260422T204324Z
DESCRIPTION:Tween craft - Rockin' Animals for kids ages 9-12 can make rock 
 animal art using rocks\, acrylic paint\, markers and fabric at 4 pm.
DTSTART;TZID=America/Anchorage:20190308T160000
DTEND;TZID=America/Anchorage:20190308T170000
LOCATION:Ketchikan Public Library
SUMMARY:Tween Craft - Rockin' Animals
END:VEVENT
END:VCALENDAR
