BEGIN:VCALENDAR
VERSION:2.0
PRODID:-//www.ketchikanarts.org//NONSGML kigkonsult.se iCalcreator 2.30.10/
 /
CALSCALE:GREGORIAN
METHOD:PUBLISH
UID:2a92b5fa-b057-473d-b4b2-2faadfc48a21
X-WR-CALDESC:Live music with the Free Radicals! Live calling! All dances ar
 e taught. Fun for the whole Family
X-WR-RELCALID:e215f6336bdf36e0db17c3b766776f49
X-WR-TIMEZONE:America/Anchorage
BEGIN:VTIMEZONE
TZID:America/Anchorage
BEGIN:STANDARD
TZNAME:AKST
DTSTART:20181104T020000
TZOFFSETFROM:-0800
TZOFFSETTO:-0900
RDATE:20191103T020000
END:STANDARD
BEGIN:DAYLIGHT
TZNAME:AKDT
DTSTART:20180311T020000
TZOFFSETFROM:-0900
TZOFFSETTO:-0800
RDATE:20190310T020000
RDATE:20200308T020000
END:DAYLIGHT
END:VTIMEZONE
BEGIN:VEVENT
UID:4eee36c9-7cfb-4329-98af-890f20d2d344
DTSTAMP:20260422T204145Z
DESCRIPTION:Live music with the Free Radicals! Live calling! All dances are
  taught. Fun for the whole Family
DTSTART;TZID=America/Anchorage:20190308T190000
DTEND;TZID=America/Anchorage:20190308T210000
LOCATION:Creek Street Cabaret
SUMMARY:Old Time Square Dance
END:VEVENT
END:VCALENDAR
