BEGIN:VCALENDAR
VERSION:2.0
PRODID:-//www.ketchikanarts.org//NONSGML kigkonsult.se iCalcreator 2.30.10/
 /
CALSCALE:GREGORIAN
METHOD:PUBLISH
UID:c9b09caf-4b50-479f-8c0b-48a423f70d38
X-WR-CALDESC:Friday\, March 8: Kayhi's National Ocean Sciences Bowl \n\nKay
 hi’s team will share their research on this year's question: What type of 
 ocean observing platform would you design to address an important marine i
 ssue that affects your community? The team will compete in the Tsunami Bow
 l in Seward on February 21-25th and this research paper and presentation i
 s part of their competition\, in addition to the quiz bowl. They hope to c
 ontribute to our community's knowledge about bacteriological issues in our
  local waters.
X-WR-RELCALID:4a21c28415da50b6e80e4ae7b71a5af7
X-WR-TIMEZONE:America/Anchorage
BEGIN:VTIMEZONE
TZID:America/Anchorage
BEGIN:STANDARD
TZNAME:AKST
DTSTART:20181104T020000
TZOFFSETFROM:-0800
TZOFFSETTO:-0900
RDATE:20191103T020000
END:STANDARD
BEGIN:DAYLIGHT
TZNAME:AKDT
DTSTART:20180311T020000
TZOFFSETFROM:-0900
TZOFFSETTO:-0800
RDATE:20190310T020000
RDATE:20200308T020000
END:DAYLIGHT
END:VTIMEZONE
BEGIN:VEVENT
UID:98cc6ecb-105e-4d5e-85b0-069050d064e9
DTSTAMP:20260422T204145Z
DESCRIPTION:Friday\, March 8: Kayhi's National Ocean Sciences Bowl \n\nKayh
 i’s team will share their research on this year's question: What type of o
 cean observing platform would you design to address an important marine is
 sue that affects your community? The team will compete in the Tsunami Bowl
  in Seward on February 21-25th and this research paper and presentation is
  part of their competition\, in addition to the quiz bowl. They hope to co
 ntribute to our community's knowledge about bacteriological issues in our 
 local waters.
DTSTART;TZID=America/Anchorage:20190308T180000
DTEND;TZID=America/Anchorage:20190308T193000
LOCATION:Southeast Alaska Discovery Center
SUMMARY:Friday Night Insights
END:VEVENT
END:VCALENDAR
