BEGIN:VCALENDAR
VERSION:2.0
PRODID:-//www.ketchikanarts.org//NONSGML kigkonsult.se iCalcreator 2.30.10/
 /
CALSCALE:GREGORIAN
METHOD:PUBLISH
UID:28cc79e8-8085-46e3-acfd-32969c12f7f7
X-WR-CALDESC:Bring your own handwork\, Enjoy the ambiance and a glass of wi
 ne. Good food and good friends!
X-WR-RELCALID:44a9cd0f0474cd306eefb4bb0ffea373
X-WR-TIMEZONE:America/Anchorage
BEGIN:VTIMEZONE
TZID:America/Anchorage
BEGIN:STANDARD
TZNAME:AKST
DTSTART:20181104T020000
TZOFFSETFROM:-0800
TZOFFSETTO:-0900
RDATE:20191103T020000
END:STANDARD
BEGIN:DAYLIGHT
TZNAME:AKDT
DTSTART:20180311T020000
TZOFFSETFROM:-0900
TZOFFSETTO:-0800
RDATE:20190310T020000
RDATE:20200308T020000
END:DAYLIGHT
END:VTIMEZONE
BEGIN:VEVENT
UID:0e1aa7be-3fdc-44f7-82a9-0ac57f1cd41c
DTSTAMP:20260422T204924Z
DESCRIPTION:Bring your own handwork\, Enjoy the ambiance and a glass of win
 e. Good food and good friends!
DTSTART;TZID=America/Anchorage:20190307T190000
DTEND;TZID=America/Anchorage:20190307T210000
LOCATION:The New York Cafe
SUMMARY:Open Craft Night at the New York Cafe
END:VEVENT
END:VCALENDAR
