BEGIN:VCALENDAR
VERSION:2.0
PRODID:-//www.ketchikanarts.org//NONSGML kigkonsult.se iCalcreator 2.30.10/
 /
CALSCALE:GREGORIAN
METHOD:PUBLISH
UID:96e058c3-1180-468c-9e50-3c7ab17e5ec4
X-WR-CALDESC:Live Music
X-WR-RELCALID:efde07819e4d56b9260e3f7ad5d32c07
X-WR-TIMEZONE:America/Anchorage
BEGIN:VTIMEZONE
TZID:America/Anchorage
BEGIN:STANDARD
TZNAME:AKST
DTSTART:20181104T020000
TZOFFSETFROM:-0800
TZOFFSETTO:-0900
RDATE:20191103T020000
END:STANDARD
BEGIN:DAYLIGHT
TZNAME:AKDT
DTSTART:20180311T020000
TZOFFSETFROM:-0900
TZOFFSETTO:-0800
RDATE:20190310T020000
RDATE:20200308T020000
END:DAYLIGHT
END:VTIMEZONE
BEGIN:VEVENT
UID:3021b000-d524-405f-ac44-ca1b65f3bc59
DTSTAMP:20260422T204615Z
DESCRIPTION:Live Music
DTSTART;TZID=America/Anchorage:20190302T210000
DTEND;TZID=America/Anchorage:20190302T230000
LOCATION:The Moose Lodge
SUMMARY:Roger That live music at the Moose
END:VEVENT
END:VCALENDAR
