BEGIN:VCALENDAR
VERSION:2.0
PRODID:-//www.ketchikanarts.org//NONSGML kigkonsult.se iCalcreator 2.30.10/
 /
CALSCALE:GREGORIAN
METHOD:PUBLISH
UID:140eec67-6c05-477c-8dd7-6c068e4ada2f
X-WR-CALDESC:This exhibit features the culmination of Cordova artist David 
 Rosenthal's 2015 artist residency at Katmai National Park. Rosenthal joine
 d scientist studying environmental impact in Katmai creating a body of wor
 k reflecting his experience. The exhibit is on display at the Main Street 
 Gallery until March 29\, 2019.
X-WR-RELCALID:cdc8a1d5a4909ba189d89e9f21132e07
X-WR-TIMEZONE:America/Anchorage
BEGIN:VTIMEZONE
TZID:America/Anchorage
BEGIN:STANDARD
TZNAME:AKST
DTSTART:20181104T020000
TZOFFSETFROM:-0800
TZOFFSETTO:-0900
RDATE:20191103T020000
END:STANDARD
BEGIN:DAYLIGHT
TZNAME:AKDT
DTSTART:20180311T020000
TZOFFSETFROM:-0900
TZOFFSETTO:-0800
RDATE:20190310T020000
RDATE:20200308T020000
END:DAYLIGHT
END:VTIMEZONE
BEGIN:VEVENT
UID:da898382-098a-40c4-8770-5332b9637505
DTSTAMP:20260422T205023Z
DESCRIPTION:This exhibit features the culmination of Cordova artist David R
 osenthal's 2015 artist residency at Katmai National Park. Rosenthal joined
  scientist studying environmental impact in Katmai creating a body of work
  reflecting his experience. The exhibit is on display at the Main Street G
 allery until March 29\, 2019.
DTSTART;TZID=America/Anchorage:20190302T110000
DTEND;TZID=America/Anchorage:20190329T170000
LOCATION:Main Street Gallery
SUMMARY:'Art & Science on the Katmai Coast' Main Street Gallery Exhibit
END:VEVENT
END:VCALENDAR
