BEGIN:VCALENDAR
VERSION:2.0
PRODID:-//www.ketchikanarts.org//NONSGML kigkonsult.se iCalcreator 2.30.10/
 /
CALSCALE:GREGORIAN
METHOD:PUBLISH
UID:81c9ffe8-ca5c-4f82-80a3-52f6ff97730d
X-WR-CALDESC:Join us for the Opening Reception of 'Art and Science on the K
 atmai Coast'. The exhibit features the culmination of Cordova artist David
  Rosenthal's 2015 artist residency at Katmai National Park. Rosenthal join
 ed scientist studying environmental impact in Katmai creating a body of wo
 rk reflecting his experience. Main Street Gallery openings are always the 
 first Friday of the month\, and are free and open to the public.
X-WR-RELCALID:10ec038a07a9c601e77291ebec1cae2a
X-WR-TIMEZONE:America/Anchorage
BEGIN:VTIMEZONE
TZID:America/Anchorage
BEGIN:STANDARD
TZNAME:AKST
DTSTART:20181104T020000
TZOFFSETFROM:-0800
TZOFFSETTO:-0900
RDATE:20191103T020000
END:STANDARD
BEGIN:DAYLIGHT
TZNAME:AKDT
DTSTART:20180311T020000
TZOFFSETFROM:-0900
TZOFFSETTO:-0800
RDATE:20190310T020000
RDATE:20200308T020000
END:DAYLIGHT
END:VTIMEZONE
BEGIN:VEVENT
UID:acaed078-7725-4b41-8876-297c4d2860c2
DTSTAMP:20260422T204909Z
DESCRIPTION:Join us for the Opening Reception of 'Art and Science on the Ka
 tmai Coast'. The exhibit features the culmination of Cordova artist David 
 Rosenthal's 2015 artist residency at Katmai National Park. Rosenthal joine
 d scientist studying environmental impact in Katmai creating a body of wor
 k reflecting his experience. Main Street Gallery openings are always the f
 irst Friday of the month\, and are free and open to the public.
DTSTART;TZID=America/Anchorage:20190301T170000
DTEND;TZID=America/Anchorage:20190301T190000
LOCATION:Main Street Gallery
SUMMARY:Main Street Gallery Opening Reception - 'Art & Science on the Katma
 i Coast'
END:VEVENT
END:VCALENDAR
