BEGIN:VCALENDAR
VERSION:2.0
PRODID:-//www.ketchikanarts.org//NONSGML kigkonsult.se iCalcreator 2.30.10/
 /
CALSCALE:GREGORIAN
METHOD:PUBLISH
UID:b6d71499-45be-47d5-8515-cf38bd6a3251
X-WR-CALDESC:Join First City Players for their presentation of {Proof} a pl
 ay by David Auburn.
X-WR-RELCALID:23f440685cc24e52d047fa9a5a55f7fd
X-WR-TIMEZONE:America/Anchorage
BEGIN:VTIMEZONE
TZID:America/Anchorage
BEGIN:STANDARD
TZNAME:AKST
DTSTART:20181104T020000
TZOFFSETFROM:-0800
TZOFFSETTO:-0900
RDATE:20191103T020000
END:STANDARD
BEGIN:DAYLIGHT
TZNAME:AKDT
DTSTART:20180311T020000
TZOFFSETFROM:-0900
TZOFFSETTO:-0800
RDATE:20190310T020000
RDATE:20200308T020000
END:DAYLIGHT
END:VTIMEZONE
BEGIN:VEVENT
UID:a3b1886d-ef26-4f5f-82ce-84fc8b9074fb
DTSTAMP:20260422T204554Z
DESCRIPTION:Join First City Players for their presentation of {Proof} a pla
 y by David Auburn.
DTSTART;TZID=America/Anchorage:20190301T193000
DTEND;TZID=America/Anchorage:20190301T213000
LOCATION:Kayhi Auditorium
SUMMARY:First City Players Presents {Proof}
END:VEVENT
END:VCALENDAR
