BEGIN:VCALENDAR
VERSION:2.0
PRODID:-//www.ketchikanarts.org//NONSGML kigkonsult.se iCalcreator 2.30.10/
 /
CALSCALE:GREGORIAN
METHOD:PUBLISH
UID:f95324b8-baa0-4bd6-bc16-08e5ff00e725
X-WR-CALDESC:
X-WR-RELCALID:546b423a50f15d75a83a62f1690f257c
X-WR-TIMEZONE:America/Anchorage
BEGIN:VTIMEZONE
TZID:America/Anchorage
BEGIN:STANDARD
TZNAME:AKST
DTSTART:20181104T020000
TZOFFSETFROM:-0800
TZOFFSETTO:-0900
RDATE:20191103T020000
END:STANDARD
BEGIN:DAYLIGHT
TZNAME:AKDT
DTSTART:20180311T020000
TZOFFSETFROM:-0900
TZOFFSETTO:-0800
RDATE:20190310T020000
RDATE:20200308T020000
END:DAYLIGHT
END:VTIMEZONE
BEGIN:VEVENT
UID:b6957bbc-8b32-4520-a592-d9c6b58eacd7
DTSTAMP:20260422T221555Z
DESCRIPTION:
DTSTART;TZID=America/Anchorage:20190228T180000
DTEND;TZID=America/Anchorage:20190228T190000
LOCATION:Cape Fox Lodge
SUMMARY:Tlingit Historical Lecture by Kenneth White
END:VEVENT
END:VCALENDAR
