BEGIN:VCALENDAR
VERSION:2.0
PRODID:-//www.ketchikanarts.org//NONSGML kigkonsult.se iCalcreator 2.30.10/
 /
CALSCALE:GREGORIAN
METHOD:PUBLISH
UID:88d752ff-8192-4bef-8441-59e0c3a37552
X-WR-CALDESC:Roger That at the Moose
X-WR-RELCALID:9660d88594e77dd930992e054547ca7f
X-WR-TIMEZONE:America/Anchorage
BEGIN:VTIMEZONE
TZID:America/Anchorage
BEGIN:STANDARD
TZNAME:AKST
DTSTART:20181104T020000
TZOFFSETFROM:-0800
TZOFFSETTO:-0900
RDATE:20191103T020000
END:STANDARD
BEGIN:DAYLIGHT
TZNAME:AKDT
DTSTART:20180311T020000
TZOFFSETFROM:-0900
TZOFFSETTO:-0800
RDATE:20190310T020000
RDATE:20200308T020000
END:DAYLIGHT
END:VTIMEZONE
BEGIN:VEVENT
UID:95cb59ef-5f8a-4960-832e-6f6f1827767e
DTSTAMP:20260422T220747Z
DESCRIPTION:Roger That at the Moose
DTSTART;TZID=America/Anchorage:20190228T210000
DTEND;TZID=America/Anchorage:20190228T220000
LOCATION:
SUMMARY:Roger That\, Live Music
END:VEVENT
END:VCALENDAR
