BEGIN:VCALENDAR
VERSION:2.0
PRODID:-//www.ketchikanarts.org//NONSGML kigkonsult.se iCalcreator 2.30.10/
 /
CALSCALE:GREGORIAN
METHOD:PUBLISH
UID:2158aba8-6e21-4554-9669-e0a6462d0841
X-WR-CALDESC:a play by David Auburn\n7:30-9:30 pm\, Kayhi Auditorium. Pay W
 hat You Can\, dress rehearsal. Rated PG13 due to language. \n
X-WR-RELCALID:c89cc7a0b77181a851b8132333ef7be0
X-WR-TIMEZONE:America/Anchorage
BEGIN:VTIMEZONE
TZID:America/Anchorage
BEGIN:STANDARD
TZNAME:AKST
DTSTART:20181104T020000
TZOFFSETFROM:-0800
TZOFFSETTO:-0900
RDATE:20191103T020000
END:STANDARD
BEGIN:DAYLIGHT
TZNAME:AKDT
DTSTART:20180311T020000
TZOFFSETFROM:-0900
TZOFFSETTO:-0800
RDATE:20190310T020000
RDATE:20200308T020000
END:DAYLIGHT
END:VTIMEZONE
BEGIN:VEVENT
UID:afc22308-2960-48c4-82d4-8fa90428512d
DTSTAMP:20260422T222841Z
DESCRIPTION:a play by David Auburn\n7:30-9:30 pm\, Kayhi Auditorium. Pay Wh
 at You Can\, dress rehearsal. Rated PG13 due to language. \n
DTSTART;TZID=America/Anchorage:20190228T193000
DTEND;TZID=America/Anchorage:20190228T213000
LOCATION:Kay Hi Auditorium
SUMMARY:First City Players presents Proof a dress rehearsal
END:VEVENT
END:VCALENDAR
