BEGIN:VCALENDAR
VERSION:2.0
PRODID:-//www.ketchikanarts.org//NONSGML kigkonsult.se iCalcreator 2.30.10/
 /
CALSCALE:GREGORIAN
METHOD:PUBLISH
UID:e389e1c3-b109-4f70-b173-e9fdf9b79c8d
X-WR-CALDESC:Chilkat Works in Progress\nInstructor:  Dorica Jackson\nFebrua
 ry 25 – March 2\, 2019\nMonday – Friday\, 6 – 9 p.m.\, Saturday 9 a.m. – 3
  p.m.\nRegistration Fee: $125 / $100\nREGISTRATION FOR THIS CLASS OPENS DE
 C. 13\, 2018 @ 5:00 PM.\n\nMaster weaver Dorica Jackson will help students
  towards successful completion of Chilkat projects currently underway. No 
 matter what stage or technique challenge\, she will teach you the necessar
 y method\, give guidance and feedback\, and ensure that you are on the rig
 ht path. Jackson is recognized for her high level of mastery and the intri
 cacy and precision of her work. She has been weaving and teaching to help 
 regrow this art form since a time when few carried knowledge of Chilkat we
 aving.
X-WR-RELCALID:ee0a2b4e3476fc3b9dd1e43b62c72add
X-WR-TIMEZONE:America/Anchorage
BEGIN:VTIMEZONE
TZID:America/Anchorage
BEGIN:STANDARD
TZNAME:AKST
DTSTART:20181104T020000
TZOFFSETFROM:-0800
TZOFFSETTO:-0900
RDATE:20191103T020000
END:STANDARD
BEGIN:DAYLIGHT
TZNAME:AKDT
DTSTART:20180311T020000
TZOFFSETFROM:-0900
TZOFFSETTO:-0800
RDATE:20190310T020000
RDATE:20200308T020000
END:DAYLIGHT
END:VTIMEZONE
BEGIN:VEVENT
UID:a40f4ec7-1b63-464c-8f1c-5dcca81091a6
DTSTAMP:20260422T222522Z
DESCRIPTION:Chilkat Works in Progress\nInstructor:  Dorica Jackson\nFebruar
 y 25 – March 2\, 2019\nMonday – Friday\, 6 – 9 p.m.\, Saturday 9 a.m. – 3 
 p.m.\nRegistration Fee: $125 / $100\nREGISTRATION FOR THIS CLASS OPENS DEC
 . 13\, 2018 @ 5:00 PM.\n\nMaster weaver Dorica Jackson will help students 
 towards successful completion of Chilkat projects currently underway. No m
 atter what stage or technique challenge\, she will teach you the necessary
  method\, give guidance and feedback\, and ensure that you are on the righ
 t path. Jackson is recognized for her high level of mastery and the intric
 acy and precision of her work. She has been weaving and teaching to help r
 egrow this art form since a time when few carried knowledge of Chilkat wea
 ving.
DTSTART;TZID=America/Anchorage:20190227T180000
DTEND;TZID=America/Anchorage:20190227T210000
LOCATION:Totem Heritage Center
SUMMARY:Chilkat Works in Progress - Dorica Jackson
END:VEVENT
END:VCALENDAR
