BEGIN:VCALENDAR
VERSION:2.0
PRODID:-//www.ketchikanarts.org//NONSGML kigkonsult.se iCalcreator 2.30.10/
 /
CALSCALE:GREGORIAN
METHOD:PUBLISH
UID:ea40eba2-f5ac-4bb1-9de5-fcbc5237513b
X-WR-CALDESC:This meeting is the Rainy Day Quilt guild is a monthly meeting
 . The group meets in the basement room of the church beginning at 6:30pm o
 n the 4th Tuesday of the month.
X-WR-RELCALID:956dd9f7b6d6602cce5322a4c2c19579
X-WR-TIMEZONE:America/Anchorage
BEGIN:VTIMEZONE
TZID:America/Anchorage
BEGIN:STANDARD
TZNAME:AKST
DTSTART:20181104T020000
TZOFFSETFROM:-0800
TZOFFSETTO:-0900
RDATE:20191103T020000
END:STANDARD
BEGIN:DAYLIGHT
TZNAME:AKDT
DTSTART:20180311T020000
TZOFFSETFROM:-0900
TZOFFSETTO:-0800
RDATE:20190310T020000
RDATE:20200308T020000
END:DAYLIGHT
END:VTIMEZONE
BEGIN:VEVENT
UID:209d2ed9-f7e3-4509-9bd8-e86b4e6c37d3
DTSTAMP:20260422T222700Z
DESCRIPTION:This meeting is the Rainy Day Quilt guild is a monthly meeting.
  The group meets in the basement room of the church beginning at 6:30pm on
  the 4th Tuesday of the month.
DTSTART;TZID=America/Anchorage:20190226T183000
DTEND;TZID=America/Anchorage:20190226T200000
LOCATION:Holy Name Catholic Church
SUMMARY:Rainy Day Quilt Guild Monthly Meeting
END:VEVENT
END:VCALENDAR
