BEGIN:VCALENDAR
VERSION:2.0
PRODID:-//www.ketchikanarts.org//NONSGML kigkonsult.se iCalcreator 2.30.10/
 /
CALSCALE:GREGORIAN
METHOD:PUBLISH
UID:e608d9bd-1d39-4674-9d35-24136a47450d
X-WR-CALDESC:Ketchikan Theatre Ballet's 'An Evening of Dance' features the 
 senior class dancers. Tickets available at Ketchikan Theatre Ballet\, teh 
 Arts Council and at the door.
X-WR-RELCALID:fc5d4dde4189d0312110ce033de04c79
X-WR-TIMEZONE:America/Anchorage
BEGIN:VTIMEZONE
TZID:America/Anchorage
BEGIN:STANDARD
TZNAME:AKST
DTSTART:20181104T020000
TZOFFSETFROM:-0800
TZOFFSETTO:-0900
RDATE:20191103T020000
END:STANDARD
BEGIN:DAYLIGHT
TZNAME:AKDT
DTSTART:20180311T020000
TZOFFSETFROM:-0900
TZOFFSETTO:-0800
RDATE:20190310T020000
RDATE:20200308T020000
END:DAYLIGHT
END:VTIMEZONE
BEGIN:VEVENT
UID:6bdbe9d6-0c4e-4914-ba03-08a77e76204d
DTSTAMP:20260422T222738Z
DESCRIPTION:Ketchikan Theatre Ballet's 'An Evening of Dance' features the s
 enior class dancers. Tickets available at Ketchikan Theatre Ballet\, teh A
 rts Council and at the door.
DTSTART;TZID=America/Anchorage:20190222T193000
DTEND;TZID=America/Anchorage:20190222T213000
LOCATION:Kayhi Auditorium
SUMMARY:Ketchikan Theatre Ballet - An Evening of Dance
END:VEVENT
END:VCALENDAR
