BEGIN:VCALENDAR
VERSION:2.0
PRODID:-//www.ketchikanarts.org//NONSGML kigkonsult.se iCalcreator 2.30.10/
 /
CALSCALE:GREGORIAN
METHOD:PUBLISH
UID:505ef0f7-38ae-471a-b0cf-7fc071e59a00
X-WR-CALDESC:Friday\, February 22: KIC's Tribal Scholars Program - Educatio
 n through Discovery \n\nFollow the Tribal Scholars’ students on their expe
 dition to Chomondeley Sound. There students subsistence fished for halibut
 \, explored traditional Native sites\, as well as learned how to set shrim
 p/crab pots and kayak. Students will present a 15 minute video\, as well a
 s be available for a Q&A session afterwards.
X-WR-RELCALID:bfe1811f30920229a001a61a3a14dbe2
X-WR-TIMEZONE:America/Anchorage
BEGIN:VTIMEZONE
TZID:America/Anchorage
BEGIN:STANDARD
TZNAME:AKST
DTSTART:20181104T020000
TZOFFSETFROM:-0800
TZOFFSETTO:-0900
RDATE:20191103T020000
END:STANDARD
BEGIN:DAYLIGHT
TZNAME:AKDT
DTSTART:20180311T020000
TZOFFSETFROM:-0900
TZOFFSETTO:-0800
RDATE:20190310T020000
RDATE:20200308T020000
END:DAYLIGHT
END:VTIMEZONE
BEGIN:VEVENT
UID:4807be92-359d-4363-a34d-954fa8acf74f
DTSTAMP:20260422T220623Z
DESCRIPTION:Friday\, February 22: KIC's Tribal Scholars Program - Education
  through Discovery \n\nFollow the Tribal Scholars’ students on their exped
 ition to Chomondeley Sound. There students subsistence fished for halibut\
 , explored traditional Native sites\, as well as learned how to set shrimp
 /crab pots and kayak. Students will present a 15 minute video\, as well as
  be available for a Q&A session afterwards.
DTSTART;TZID=America/Anchorage:20190222T180000
DTEND;TZID=America/Anchorage:20190222T193000
LOCATION:Southeast Alaska Discovery Center
SUMMARY:Friday Night Insights
END:VEVENT
END:VCALENDAR
