BEGIN:VCALENDAR
VERSION:2.0
PRODID:-//www.ketchikanarts.org//NONSGML kigkonsult.se iCalcreator 2.30.10/
 /
CALSCALE:GREGORIAN
METHOD:PUBLISH
UID:5333ea51-5071-4426-9298-a0c84e1b5d1e
X-WR-CALDESC:Rasmuson Foundation honors the merit and significance of a lif
 e dedicated to serious artistic exploration and growth. The Foundation bel
 ieves an artist’s energy\, ideas\, and creative drive cannot bear fruit wi
 thout time devoted to experimentation\, education\, and personal reflectio
 n. We also acknowledge artists need opportunities to explore at various st
 ages of their artistic careers
X-WR-RELCALID:a221dced89fed63eeef7f604da772f69
X-WR-TIMEZONE:America/Anchorage
BEGIN:VTIMEZONE
TZID:America/Anchorage
BEGIN:STANDARD
TZNAME:AKST
DTSTART:20181104T020000
TZOFFSETFROM:-0800
TZOFFSETTO:-0900
RDATE:20191103T020000
END:STANDARD
BEGIN:DAYLIGHT
TZNAME:AKDT
DTSTART:20180311T020000
TZOFFSETFROM:-0900
TZOFFSETTO:-0800
RDATE:20190310T020000
RDATE:20200308T020000
END:DAYLIGHT
END:VTIMEZONE
BEGIN:VEVENT
UID:14abfbbd-a2d1-4311-8169-8ce8bc822b44
DTSTAMP:20260422T204620Z
DESCRIPTION:Rasmuson Foundation honors the merit and significance of a life
  dedicated to serious artistic exploration and growth. The Foundation beli
 eves an artist’s energy\, ideas\, and creative drive cannot bear fruit wit
 hout time devoted to experimentation\, education\, and personal reflection
 . We also acknowledge artists need opportunities to explore at various sta
 ges of their artistic careers
DTSTART;TZID=America/Anchorage:20190220T163000
DTEND;TZID=America/Anchorage:20190301T170000
LOCATION:
SUMMARY:Rasmuson Individual Artist Awards
END:VEVENT
END:VCALENDAR
